BEGIN:VCALENDAR
VERSION:2.0
PRODID:-//Zen Center of Spokane - ECPv6.15.20//NONSGML v1.0//EN
CALSCALE:GREGORIAN
METHOD:PUBLISH
X-ORIGINAL-URL:https://zencenterspokane.org
X-WR-CALDESC:Events for Zen Center of Spokane
REFRESH-INTERVAL;VALUE=DURATION:PT1H
X-Robots-Tag:noindex
X-PUBLISHED-TTL:PT1H
BEGIN:VTIMEZONE
TZID:America/Los_Angeles
BEGIN:DAYLIGHT
TZOFFSETFROM:-0800
TZOFFSETTO:-0700
TZNAME:PDT
DTSTART:20240310T100000
END:DAYLIGHT
BEGIN:STANDARD
TZOFFSETFROM:-0700
TZOFFSETTO:-0800
TZNAME:PST
DTSTART:20241103T090000
END:STANDARD
BEGIN:DAYLIGHT
TZOFFSETFROM:-0800
TZOFFSETTO:-0700
TZNAME:PDT
DTSTART:20250309T100000
END:DAYLIGHT
BEGIN:STANDARD
TZOFFSETFROM:-0700
TZOFFSETTO:-0800
TZNAME:PST
DTSTART:20251102T090000
END:STANDARD
BEGIN:DAYLIGHT
TZOFFSETFROM:-0800
TZOFFSETTO:-0700
TZNAME:PDT
DTSTART:20260308T100000
END:DAYLIGHT
BEGIN:STANDARD
TZOFFSETFROM:-0700
TZOFFSETTO:-0800
TZNAME:PST
DTSTART:20261101T090000
END:STANDARD
END:VTIMEZONE
BEGIN:VEVENT
DTSTART;TZID=America/Los_Angeles:20250903T191500
DTEND;TZID=America/Los_Angeles:20250903T201500
DTSTAMP:20260423T000831
CREATED:20250729T030640Z
LAST-MODIFIED:20250915T194750Z
UID:673-1756926900-1756930500@zencenterspokane.org
SUMMARY:Wednesday Sit
DESCRIPTION:
URL:https://zencenterspokane.org/event/wednesday-sit-26/
LOCATION:Zen Center of Spokane\, 25 West Main Ave\, Spokane\, WA\, 99201\, United States
CATEGORIES:Wednesday Sit
END:VEVENT
BEGIN:VEVENT
DTSTART;TZID=America/Los_Angeles:20250903T191500
DTEND;TZID=America/Los_Angeles:20250903T201500
DTSTAMP:20260423T000831
CREATED:20250729T030640Z
LAST-MODIFIED:20250915T194750Z
UID:673-1756926900-1756930500@zencenterspokane.org
SUMMARY:Wednesday Sit
DESCRIPTION:
URL:https://zencenterspokane.org/event/wednesday-sit-26/
LOCATION:Zen Center of Spokane\, 25 West Main Ave\, Spokane\, WA\, 99201\, United States
CATEGORIES:Wednesday Sit
END:VEVENT
BEGIN:VEVENT
DTSTART;TZID=America/Los_Angeles:20250903T191500
DTEND;TZID=America/Los_Angeles:20250903T201500
DTSTAMP:20260423T000831
CREATED:20250729T030640Z
LAST-MODIFIED:20250915T194750Z
UID:673-1756926900-1756930500@zencenterspokane.org
SUMMARY:Wednesday Sit
DESCRIPTION:
URL:https://zencenterspokane.org/event/wednesday-sit-26/
LOCATION:Zen Center of Spokane\, 25 West Main Ave\, Spokane\, WA\, 99201\, United States
CATEGORIES:Wednesday Sit
END:VEVENT
BEGIN:VEVENT
DTSTART;TZID=America/Los_Angeles:20250903T191500
DTEND;TZID=America/Los_Angeles:20250903T201500
DTSTAMP:20260423T000831
CREATED:20250729T030640Z
LAST-MODIFIED:20250915T194750Z
UID:673-1756926900-1756930500@zencenterspokane.org
SUMMARY:Wednesday Sit
DESCRIPTION:
URL:https://zencenterspokane.org/event/wednesday-sit-26/
LOCATION:Zen Center of Spokane\, 25 West Main Ave\, Spokane\, WA\, 99201\, United States
CATEGORIES:Wednesday Sit
END:VEVENT
BEGIN:VEVENT
DTSTART;TZID=America/Los_Angeles:20250903T191500
DTEND;TZID=America/Los_Angeles:20250903T201500
DTSTAMP:20260423T000831
CREATED:20250729T030640Z
LAST-MODIFIED:20250915T194750Z
UID:673-1756926900-1756930500@zencenterspokane.org
SUMMARY:Wednesday Sit
DESCRIPTION:
URL:https://zencenterspokane.org/event/wednesday-sit-26/
LOCATION:Zen Center of Spokane\, 25 West Main Ave\, Spokane\, WA\, 99201\, United States
CATEGORIES:Wednesday Sit
END:VEVENT
BEGIN:VEVENT
DTSTART;TZID=America/Los_Angeles:20250903T191500
DTEND;TZID=America/Los_Angeles:20250903T201500
DTSTAMP:20260423T000831
CREATED:20250729T030640Z
LAST-MODIFIED:20250915T194750Z
UID:673-1756926900-1756930500@zencenterspokane.org
SUMMARY:Wednesday Sit
DESCRIPTION:
URL:https://zencenterspokane.org/event/wednesday-sit-26/
LOCATION:Zen Center of Spokane\, 25 West Main Ave\, Spokane\, WA\, 99201\, United States
CATEGORIES:Wednesday Sit
END:VEVENT
BEGIN:VEVENT
DTSTART;TZID=America/Los_Angeles:20250903T191500
DTEND;TZID=America/Los_Angeles:20250903T201500
DTSTAMP:20260423T000831
CREATED:20250729T030640Z
LAST-MODIFIED:20250915T194750Z
UID:673-1756926900-1756930500@zencenterspokane.org
SUMMARY:Wednesday Sit
DESCRIPTION:
URL:https://zencenterspokane.org/event/wednesday-sit-26/
LOCATION:Zen Center of Spokane\, 25 West Main Ave\, Spokane\, WA\, 99201\, United States
CATEGORIES:Wednesday Sit
END:VEVENT
BEGIN:VEVENT
DTSTART;TZID=America/Los_Angeles:20250903T191500
DTEND;TZID=America/Los_Angeles:20250903T201500
DTSTAMP:20260423T000831
CREATED:20250729T030640Z
LAST-MODIFIED:20250915T194750Z
UID:673-1756926900-1756930500@zencenterspokane.org
SUMMARY:Wednesday Sit
DESCRIPTION:
URL:https://zencenterspokane.org/event/wednesday-sit-26/
LOCATION:Zen Center of Spokane\, 25 West Main Ave\, Spokane\, WA\, 99201\, United States
CATEGORIES:Wednesday Sit
END:VEVENT
BEGIN:VEVENT
DTSTART;TZID=America/Los_Angeles:20250903T191500
DTEND;TZID=America/Los_Angeles:20250903T201500
DTSTAMP:20260423T000831
CREATED:20250729T030640Z
LAST-MODIFIED:20250915T194750Z
UID:673-1756926900-1756930500@zencenterspokane.org
SUMMARY:Wednesday Sit
DESCRIPTION:
URL:https://zencenterspokane.org/event/wednesday-sit-26/
LOCATION:Zen Center of Spokane\, 25 West Main Ave\, Spokane\, WA\, 99201\, United States
CATEGORIES:Wednesday Sit
END:VEVENT
BEGIN:VEVENT
DTSTART;TZID=America/Los_Angeles:20250903T191500
DTEND;TZID=America/Los_Angeles:20250903T201500
DTSTAMP:20260423T000831
CREATED:20250729T030640Z
LAST-MODIFIED:20250915T194750Z
UID:673-1756926900-1756930500@zencenterspokane.org
SUMMARY:Wednesday Sit
DESCRIPTION:
URL:https://zencenterspokane.org/event/wednesday-sit-26/
LOCATION:Zen Center of Spokane\, 25 West Main Ave\, Spokane\, WA\, 99201\, United States
CATEGORIES:Wednesday Sit
END:VEVENT
BEGIN:VEVENT
DTSTART;TZID=America/Los_Angeles:20250903T191500
DTEND;TZID=America/Los_Angeles:20250903T201500
DTSTAMP:20260423T000831
CREATED:20250729T030640Z
LAST-MODIFIED:20250915T194750Z
UID:673-1756926900-1756930500@zencenterspokane.org
SUMMARY:Wednesday Sit
DESCRIPTION:
URL:https://zencenterspokane.org/event/wednesday-sit-26/
LOCATION:Zen Center of Spokane\, 25 West Main Ave\, Spokane\, WA\, 99201\, United States
CATEGORIES:Wednesday Sit
END:VEVENT
BEGIN:VEVENT
DTSTART;TZID=America/Los_Angeles:20250903T191500
DTEND;TZID=America/Los_Angeles:20250903T201500
DTSTAMP:20260423T000831
CREATED:20250729T030640Z
LAST-MODIFIED:20250915T194750Z
UID:673-1756926900-1756930500@zencenterspokane.org
SUMMARY:Wednesday Sit
DESCRIPTION:
URL:https://zencenterspokane.org/event/wednesday-sit-26/
LOCATION:Zen Center of Spokane\, 25 West Main Ave\, Spokane\, WA\, 99201\, United States
CATEGORIES:Wednesday Sit
END:VEVENT
BEGIN:VEVENT
DTSTART;TZID=America/Los_Angeles:20250903T191500
DTEND;TZID=America/Los_Angeles:20250903T201500
DTSTAMP:20260423T000831
CREATED:20250729T030640Z
LAST-MODIFIED:20250915T194750Z
UID:673-1756926900-1756930500@zencenterspokane.org
SUMMARY:Wednesday Sit
DESCRIPTION:
URL:https://zencenterspokane.org/event/wednesday-sit-26/
LOCATION:Zen Center of Spokane\, 25 West Main Ave\, Spokane\, WA\, 99201\, United States
CATEGORIES:Wednesday Sit
END:VEVENT
BEGIN:VEVENT
DTSTART;TZID=America/Los_Angeles:20250903T191500
DTEND;TZID=America/Los_Angeles:20250903T201500
DTSTAMP:20260423T000831
CREATED:20250729T030640Z
LAST-MODIFIED:20250915T194750Z
UID:673-1756926900-1756930500@zencenterspokane.org
SUMMARY:Wednesday Sit
DESCRIPTION:
URL:https://zencenterspokane.org/event/wednesday-sit-26/
LOCATION:Zen Center of Spokane\, 25 West Main Ave\, Spokane\, WA\, 99201\, United States
CATEGORIES:Wednesday Sit
END:VEVENT
BEGIN:VEVENT
DTSTART;TZID=America/Los_Angeles:20250903T191500
DTEND;TZID=America/Los_Angeles:20250903T201500
DTSTAMP:20260423T000831
CREATED:20250729T030640Z
LAST-MODIFIED:20250915T194750Z
UID:673-1756926900-1756930500@zencenterspokane.org
SUMMARY:Wednesday Sit
DESCRIPTION:
URL:https://zencenterspokane.org/event/wednesday-sit-26/
LOCATION:Zen Center of Spokane\, 25 West Main Ave\, Spokane\, WA\, 99201\, United States
CATEGORIES:Wednesday Sit
END:VEVENT
BEGIN:VEVENT
DTSTART;TZID=America/Los_Angeles:20250903T191500
DTEND;TZID=America/Los_Angeles:20250903T201500
DTSTAMP:20260423T000831
CREATED:20250729T030640Z
LAST-MODIFIED:20250915T194750Z
UID:673-1756926900-1756930500@zencenterspokane.org
SUMMARY:Wednesday Sit
DESCRIPTION:
URL:https://zencenterspokane.org/event/wednesday-sit-26/
LOCATION:Zen Center of Spokane\, 25 West Main Ave\, Spokane\, WA\, 99201\, United States
CATEGORIES:Wednesday Sit
END:VEVENT
BEGIN:VEVENT
DTSTART;TZID=America/Los_Angeles:20250903T191500
DTEND;TZID=America/Los_Angeles:20250903T201500
DTSTAMP:20260423T000831
CREATED:20250729T030640Z
LAST-MODIFIED:20250915T194750Z
UID:673-1756926900-1756930500@zencenterspokane.org
SUMMARY:Wednesday Sit
DESCRIPTION:
URL:https://zencenterspokane.org/event/wednesday-sit-26/
LOCATION:Zen Center of Spokane\, 25 West Main Ave\, Spokane\, WA\, 99201\, United States
CATEGORIES:Wednesday Sit
END:VEVENT
BEGIN:VEVENT
DTSTART;TZID=America/Los_Angeles:20250903T191500
DTEND;TZID=America/Los_Angeles:20250903T201500
DTSTAMP:20260423T000831
CREATED:20250729T030640Z
LAST-MODIFIED:20250915T194750Z
UID:673-1756926900-1756930500@zencenterspokane.org
SUMMARY:Wednesday Sit
DESCRIPTION:
URL:https://zencenterspokane.org/event/wednesday-sit-26/
LOCATION:Zen Center of Spokane\, 25 West Main Ave\, Spokane\, WA\, 99201\, United States
CATEGORIES:Wednesday Sit
END:VEVENT
BEGIN:VEVENT
DTSTART;TZID=America/Los_Angeles:20250903T191500
DTEND;TZID=America/Los_Angeles:20250903T201500
DTSTAMP:20260423T000831
CREATED:20250729T030640Z
LAST-MODIFIED:20250915T194750Z
UID:673-1756926900-1756930500@zencenterspokane.org
SUMMARY:Wednesday Sit
DESCRIPTION:
URL:https://zencenterspokane.org/event/wednesday-sit-26/
LOCATION:Zen Center of Spokane\, 25 West Main Ave\, Spokane\, WA\, 99201\, United States
CATEGORIES:Wednesday Sit
END:VEVENT
BEGIN:VEVENT
DTSTART;TZID=America/Los_Angeles:20250903T191500
DTEND;TZID=America/Los_Angeles:20250903T201500
DTSTAMP:20260423T000831
CREATED:20250729T030640Z
LAST-MODIFIED:20250915T194750Z
UID:673-1756926900-1756930500@zencenterspokane.org
SUMMARY:Wednesday Sit
DESCRIPTION:
URL:https://zencenterspokane.org/event/wednesday-sit-26/
LOCATION:Zen Center of Spokane\, 25 West Main Ave\, Spokane\, WA\, 99201\, United States
CATEGORIES:Wednesday Sit
END:VEVENT
BEGIN:VEVENT
DTSTART;TZID=America/Los_Angeles:20250903T191500
DTEND;TZID=America/Los_Angeles:20250903T201500
DTSTAMP:20260423T000831
CREATED:20250729T030640Z
LAST-MODIFIED:20250915T194750Z
UID:673-1756926900-1756930500@zencenterspokane.org
SUMMARY:Wednesday Sit
DESCRIPTION:
URL:https://zencenterspokane.org/event/wednesday-sit-26/
LOCATION:Zen Center of Spokane\, 25 West Main Ave\, Spokane\, WA\, 99201\, United States
CATEGORIES:Wednesday Sit
END:VEVENT
BEGIN:VEVENT
DTSTART;TZID=America/Los_Angeles:20250903T191500
DTEND;TZID=America/Los_Angeles:20250903T201500
DTSTAMP:20260423T000831
CREATED:20250729T030640Z
LAST-MODIFIED:20250915T194750Z
UID:673-1756926900-1756930500@zencenterspokane.org
SUMMARY:Wednesday Sit
DESCRIPTION:
URL:https://zencenterspokane.org/event/wednesday-sit-26/
LOCATION:Zen Center of Spokane\, 25 West Main Ave\, Spokane\, WA\, 99201\, United States
CATEGORIES:Wednesday Sit
END:VEVENT
BEGIN:VEVENT
DTSTART;TZID=America/Los_Angeles:20250827T191500
DTEND;TZID=America/Los_Angeles:20250827T203000
DTSTAMP:20260423T000831
CREATED:20250729T030433Z
LAST-MODIFIED:20250729T030433Z
UID:671-1756322100-1756326600@zencenterspokane.org
SUMMARY:Wednesday Sit
DESCRIPTION:
URL:https://zencenterspokane.org/event/wednesday-sit-25/
LOCATION:Zen Center of Spokane\, 25 West Main Ave\, Spokane\, WA\, 99201\, United States
CATEGORIES:Wednesday Sit
END:VEVENT
BEGIN:VEVENT
DTSTART;TZID=America/Los_Angeles:20250820T191500
DTEND;TZID=America/Los_Angeles:20250820T201500
DTSTAMP:20260423T000831
CREATED:20250729T030318Z
LAST-MODIFIED:20250729T030318Z
UID:669-1755717300-1755720900@zencenterspokane.org
SUMMARY:Wednesday Sit
DESCRIPTION:
URL:https://zencenterspokane.org/event/wednesday-sit-24/
LOCATION:Zen Center of Spokane\, 25 West Main Ave\, Spokane\, WA\, 99201\, United States
CATEGORIES:Wednesday Sit
END:VEVENT
BEGIN:VEVENT
DTSTART;TZID=America/Los_Angeles:20250813T071500
DTEND;TZID=America/Los_Angeles:20250813T201500
DTSTAMP:20260423T000831
CREATED:20250727T001645Z
LAST-MODIFIED:20250727T001645Z
UID:667-1755069300-1755116100@zencenterspokane.org
SUMMARY:Wednesday Sit
DESCRIPTION:
URL:https://zencenterspokane.org/event/wednesday-sit-23/
LOCATION:Zen Center of Spokane\, 25 West Main Ave\, Spokane\, WA\, 99201\, United States
CATEGORIES:Wednesday Sit
END:VEVENT
BEGIN:VEVENT
DTSTART;TZID=America/Los_Angeles:20250806T191500
DTEND;TZID=America/Los_Angeles:20250806T201500
DTSTAMP:20260423T000831
CREATED:20250727T001537Z
LAST-MODIFIED:20250727T001537Z
UID:665-1754507700-1754511300@zencenterspokane.org
SUMMARY:Wednesday Sit
DESCRIPTION:
URL:https://zencenterspokane.org/event/wednesday-sit-22/
LOCATION:Zen Center of Spokane\, 25 West Main Ave\, Spokane\, WA\, 99201\, United States
CATEGORIES:Wednesday Sit
END:VEVENT
BEGIN:VEVENT
DTSTART;TZID=America/Los_Angeles:20250730T191500
DTEND;TZID=America/Los_Angeles:20250730T191500
DTSTAMP:20260423T000831
CREATED:20250710T212545Z
LAST-MODIFIED:20250710T214138Z
UID:630-1753902900-1753902900@zencenterspokane.org
SUMMARY:Wednesday Sit
DESCRIPTION:
URL:https://zencenterspokane.org/event/wednesday-sit-21/
LOCATION:Zen Center of Spokane\, 25 West Main Ave\, Spokane\, WA\, 99201\, United States
CATEGORIES:Wednesday Sit
END:VEVENT
BEGIN:VEVENT
DTSTART;TZID=America/Los_Angeles:20250723T191500
DTEND;TZID=America/Los_Angeles:20250723T201500
DTSTAMP:20260423T000831
CREATED:20250710T202718Z
LAST-MODIFIED:20250710T211957Z
UID:592-1753298100-1753301700@zencenterspokane.org
SUMMARY:Wednesday Sit
DESCRIPTION:
URL:https://zencenterspokane.org/event/wednesday-sit-17/
LOCATION:Zen Center of Spokane\, 25 West Main Ave\, Spokane\, WA\, 99201\, United States
CATEGORIES:Wednesday Sit
END:VEVENT
BEGIN:VEVENT
DTSTART;TZID=America/Los_Angeles:20250702T191500
DTEND;TZID=America/Los_Angeles:20250702T201500
DTSTAMP:20260423T000831
CREATED:20250710T210800Z
LAST-MODIFIED:20250710T211620Z
UID:619-1751483700-1751487300@zencenterspokane.org
SUMMARY:Wednesday Sit
DESCRIPTION:
URL:https://zencenterspokane.org/event/wednesday-sit-20/
LOCATION:Zen Center of Spokane\, 25 West Main Ave\, Spokane\, WA\, 99201\, United States
CATEGORIES:Wednesday Sit
END:VEVENT
END:VCALENDAR