BEGIN:VCALENDAR
VERSION:2.0
PRODID:-//Zen Center of Spokane - ECPv6.15.20//NONSGML v1.0//EN
CALSCALE:GREGORIAN
METHOD:PUBLISH
X-WR-CALNAME:Zen Center of Spokane
X-ORIGINAL-URL:https://zencenterspokane.org
X-WR-CALDESC:Events for Zen Center of Spokane
REFRESH-INTERVAL;VALUE=DURATION:PT1H
X-Robots-Tag:noindex
X-PUBLISHED-TTL:PT1H
BEGIN:VTIMEZONE
TZID:America/Los_Angeles
BEGIN:DAYLIGHT
TZOFFSETFROM:-0800
TZOFFSETTO:-0700
TZNAME:PDT
DTSTART:20240310T100000
END:DAYLIGHT
BEGIN:STANDARD
TZOFFSETFROM:-0700
TZOFFSETTO:-0800
TZNAME:PST
DTSTART:20241103T090000
END:STANDARD
BEGIN:DAYLIGHT
TZOFFSETFROM:-0800
TZOFFSETTO:-0700
TZNAME:PDT
DTSTART:20250309T100000
END:DAYLIGHT
BEGIN:STANDARD
TZOFFSETFROM:-0700
TZOFFSETTO:-0800
TZNAME:PST
DTSTART:20251102T090000
END:STANDARD
BEGIN:DAYLIGHT
TZOFFSETFROM:-0800
TZOFFSETTO:-0700
TZNAME:PDT
DTSTART:20260308T100000
END:DAYLIGHT
BEGIN:STANDARD
TZOFFSETFROM:-0700
TZOFFSETTO:-0800
TZNAME:PST
DTSTART:20261101T090000
END:STANDARD
END:VTIMEZONE
BEGIN:VEVENT
DTSTART;TZID=America/Los_Angeles:20250507T090000
DTEND;TZID=America/Los_Angeles:20250507T170000
DTSTAMP:20260423T020253
CREATED:20250401T180426Z
LAST-MODIFIED:20250401T185235Z
UID:481-1746608400-1746637200@zencenterspokane.org
SUMMARY:Steep Mountain Retreat
DESCRIPTION:Early Start
URL:https://zencenterspokane.org/event/steep-mountain-retreat/
LOCATION:Zen Center of Spokane\, 25 West Main Ave\, Spokane\, WA\, 99201\, United States
CATEGORIES:Retreats
END:VEVENT
BEGIN:VEVENT
DTSTART;TZID=America/Los_Angeles:20250508T090000
DTEND;TZID=America/Los_Angeles:20250508T193000
DTSTAMP:20260423T020253
CREATED:20250401T181027Z
LAST-MODIFIED:20250401T185050Z
UID:483-1746694800-1746732600@zencenterspokane.org
SUMMARY:Steep Mountain Retreat
DESCRIPTION:
URL:https://zencenterspokane.org/event/wednesday-sit-3/
LOCATION:Zen Center of Spokane\, 25 West Main Ave\, Spokane\, WA\, 99201\, United States
END:VEVENT
BEGIN:VEVENT
DTSTART;TZID=America/Los_Angeles:20250509T090000
DTEND;TZID=America/Los_Angeles:20250509T173000
DTSTAMP:20260423T020253
CREATED:20250401T185616Z
LAST-MODIFIED:20250401T190428Z
UID:487-1746781200-1746811800@zencenterspokane.org
SUMMARY:Steep Mountain  Retreat
DESCRIPTION:
URL:https://zencenterspokane.org/event/steep-mountain-retreat-2/
CATEGORIES:Retreats
END:VEVENT
BEGIN:VEVENT
DTSTART;TZID=America/Los_Angeles:20250510T090000
DTEND;TZID=America/Los_Angeles:20250510T173000
DTSTAMP:20260423T020253
CREATED:20250401T190556Z
LAST-MODIFIED:20250401T190713Z
UID:494-1746867600-1746898200@zencenterspokane.org
SUMMARY:Steep Mountain Retreat
DESCRIPTION:
URL:https://zencenterspokane.org/event/steep-mountain-retreat-4/
CATEGORIES:Retreats
END:VEVENT
BEGIN:VEVENT
DTSTART;TZID=America/Los_Angeles:20250511T063000
DTEND;TZID=America/Los_Angeles:20250511T150000
DTSTAMP:20260423T020253
CREATED:20250401T185808Z
LAST-MODIFIED:20250401T185808Z
UID:489-1746945000-1746975600@zencenterspokane.org
SUMMARY:Steep Mountain Retreat
DESCRIPTION:
URL:https://zencenterspokane.org/event/steep-mountain-retreat-3/
CATEGORIES:Retreats
END:VEVENT
BEGIN:VEVENT
DTSTART;TZID=America/Los_Angeles:20250517T100000
DTEND;TZID=America/Los_Angeles:20250517T110000
DTSTAMP:20260423T020253
CREATED:20250402T151955Z
LAST-MODIFIED:20250402T151955Z
UID:496-1747476000-1747479600@zencenterspokane.org
SUMMARY:Book Study
DESCRIPTION:
URL:https://zencenterspokane.org/event/book-study-2/
CATEGORIES:Book Study
END:VEVENT
END:VCALENDAR